BEGIN:VCALENDAR
VERSION:2.0
PRODID:-//AVVF - ECPv5.16.4.1//NONSGML v1.0//EN
CALSCALE:GREGORIAN
METHOD:PUBLISH
X-WR-CALNAME:AVVF
X-ORIGINAL-URL:https://www.avvf.ch/wp
X-WR-CALDESC:Events for AVVF
REFRESH-INTERVAL;VALUE=DURATION:PT1H
X-Robots-Tag:noindex
X-PUBLISHED-TTL:PT1H
BEGIN:VTIMEZONE
TZID:Europe/Helsinki
BEGIN:DAYLIGHT
TZOFFSETFROM:+0200
TZOFFSETTO:+0300
TZNAME:EEST
DTSTART:20230326T010000
END:DAYLIGHT
BEGIN:STANDARD
TZOFFSETFROM:+0300
TZOFFSETTO:+0200
TZNAME:EET
DTSTART:20231029T010000
END:STANDARD
END:VTIMEZONE
BEGIN:VEVENT
DTSTART;VALUE=DATE:20230121
DTEND;VALUE=DATE:20230122
DTSTAMP:20260421T163933
CREATED:20221219T112118Z
LAST-MODIFIED:20221219T112118Z
UID:3060-1674259200-1674345599@www.avvf.ch
SUMMARY:Tournoi de classement n°3
DESCRIPTION:
URL:https://www.avvf.ch/wp/event/tournoi-de-classement-n3/
CATEGORIES:Tournois de classements
ATTACH;FMTTYPE=image/gif:https://www.avvf.ch/wp/wp-content/uploads/2013/05/logoavvf2.gif
END:VEVENT
END:VCALENDAR