BEGIN:VCALENDAR
VERSION:2.0
PRODID:-//AVVF - ECPv5.16.4.1//NONSGML v1.0//EN
CALSCALE:GREGORIAN
METHOD:PUBLISH
X-WR-CALNAME:AVVF
X-ORIGINAL-URL:https://www.avvf.ch/wp
X-WR-CALDESC:Events for AVVF
REFRESH-INTERVAL;VALUE=DURATION:PT1H
X-Robots-Tag:noindex
X-PUBLISHED-TTL:PT1H
BEGIN:VTIMEZONE
TZID:Europe/Paris
BEGIN:DAYLIGHT
TZOFFSETFROM:+0100
TZOFFSETTO:+0200
TZNAME:CEST
DTSTART:20230326T010000
END:DAYLIGHT
BEGIN:STANDARD
TZOFFSETFROM:+0200
TZOFFSETTO:+0100
TZNAME:CET
DTSTART:20231029T010000
END:STANDARD
END:VTIMEZONE
BEGIN:VEVENT
DTSTART;VALUE=DATE:20230429
DTEND;VALUE=DATE:20230430
DTSTAMP:20260422T032912
CREATED:20230315T180303Z
LAST-MODIFIED:20230418T141331Z
UID:3177-1682726400-1682812799@www.avvf.ch
SUMMARY:Tournoi Ste-Croix
DESCRIPTION:
URL:https://www.avvf.ch/wp/event/tournoi-ste-croix/
LOCATION:Ste-Croix
ATTACH;FMTTYPE=image/gif:https://www.avvf.ch/wp/wp-content/uploads/2013/05/logoavvf2.gif
END:VEVENT
BEGIN:VEVENT
DTSTART;VALUE=DATE:20230429
DTEND;VALUE=DATE:20230430
DTSTAMP:20260422T032912
CREATED:20230411T143303Z
LAST-MODIFIED:20230411T143303Z
UID:3193-1682726400-1682812799@www.avvf.ch
SUMMARY:Finales Gubler School Trophy
DESCRIPTION:https://www.avvf.ch/wp/gubler-school-trophy-2023/
URL:https://www.avvf.ch/wp/event/finales-gubler-school-trophy/
LOCATION:CTT Lausanne\, Chem. du Viaduc 14\, Prilly\, VD\, 1008\, Suisse
ATTACH;FMTTYPE=image/gif:https://www.avvf.ch/wp/wp-content/uploads/2013/05/logoavvf2.gif
END:VEVENT
END:VCALENDAR