BEGIN:VCALENDAR
VERSION:2.0
PRODID:-//AVVF - ECPv5.16.4.1//NONSGML v1.0//EN
CALSCALE:GREGORIAN
METHOD:PUBLISH
X-WR-CALNAME:AVVF
X-ORIGINAL-URL:https://www.avvf.ch/wp
X-WR-CALDESC:Events for AVVF
REFRESH-INTERVAL;VALUE=DURATION:PT1H
X-Robots-Tag:noindex
X-PUBLISHED-TTL:PT1H
BEGIN:VTIMEZONE
TZID:Europe/Paris
BEGIN:DAYLIGHT
TZOFFSETFROM:+0100
TZOFFSETTO:+0200
TZNAME:CEST
DTSTART:20260329T010000
END:DAYLIGHT
BEGIN:STANDARD
TZOFFSETFROM:+0200
TZOFFSETTO:+0100
TZNAME:CET
DTSTART:20261025T010000
END:STANDARD
END:VTIMEZONE
BEGIN:VEVENT
DTSTART;TZID=Europe/Paris:20260613T133000
DTEND;TZID=Europe/Paris:20260613T170000
DTSTAMP:20260421T111621
CREATED:20250721T220023Z
LAST-MODIFIED:20250721T220104Z
UID:5712-1781357400-1781370000@www.avvf.ch
SUMMARY:AG AVVF 2026
DESCRIPTION:
URL:https://www.avvf.ch/wp/event/ag-avvf-2026/
LOCATION:Hôtel du Léman – Jongny\, Chem. de la Fontaine 2\, 1805 Jongny\, Suisse
CATEGORIES:Assemblées
ATTACH;FMTTYPE=image/gif:https://www.avvf.ch/wp/wp-content/uploads/2013/05/logoavvf2.gif
END:VEVENT
END:VCALENDAR