BEGIN:VCALENDAR
VERSION:2.0
PRODID:-//AVVF - ECPv5.16.4.1//NONSGML v1.0//EN
CALSCALE:GREGORIAN
METHOD:PUBLISH
X-WR-CALNAME:AVVF
X-ORIGINAL-URL:https://www.avvf.ch/wp
X-WR-CALDESC:Events for AVVF
REFRESH-INTERVAL;VALUE=DURATION:PT1H
X-Robots-Tag:noindex
X-PUBLISHED-TTL:PT1H
BEGIN:VTIMEZONE
TZID:Europe/Helsinki
BEGIN:DAYLIGHT
TZOFFSETFROM:+0200
TZOFFSETTO:+0300
TZNAME:EEST
DTSTART:20220327T010000
END:DAYLIGHT
BEGIN:STANDARD
TZOFFSETFROM:+0300
TZOFFSETTO:+0200
TZNAME:EET
DTSTART:20221030T010000
END:STANDARD
END:VTIMEZONE
BEGIN:VEVENT
DTSTART;VALUE=DATE:20220506
DTEND;VALUE=DATE:20220507
DTSTAMP:20260421T071430
CREATED:20220405T122226Z
LAST-MODIFIED:20220405T122226Z
UID:2805-1651795200-1651881599@www.avvf.ch
SUMMARY:Assemblée Valais
DESCRIPTION:
URL:https://www.avvf.ch/wp/event/assemblee-valais/
CATEGORIES:Assemblées
ATTACH;FMTTYPE=image/gif:https://www.avvf.ch/wp/wp-content/uploads/2013/05/logoavvf2.gif
END:VEVENT
BEGIN:VEVENT
DTSTART;VALUE=DATE:20220514
DTEND;VALUE=DATE:20220515
DTSTAMP:20260421T071430
CREATED:20220405T123406Z
LAST-MODIFIED:20220409T162044Z
UID:2809-1652486400-1652572799@www.avvf.ch
SUMMARY:TC n°4 - Elite
DESCRIPTION:
URL:https://www.avvf.ch/wp/event/tc-n4-elite-et-jeunesse/
ATTACH;FMTTYPE=image/gif:https://www.avvf.ch/wp/wp-content/uploads/2013/05/logoavvf2.gif
END:VEVENT
BEGIN:VEVENT
DTSTART;VALUE=DATE:20220515
DTEND;VALUE=DATE:20220516
DTSTAMP:20260421T071430
CREATED:20220405T122939Z
LAST-MODIFIED:20220427T181945Z
UID:2807-1652572800-1652659199@www.avvf.ch
SUMMARY:Tournoi populaire Vevey
DESCRIPTION:
URL:https://www.avvf.ch/wp/event/tournoi-populaire-vevey/
CATEGORIES:Tournois
ATTACH;FMTTYPE=image/gif:https://www.avvf.ch/wp/wp-content/uploads/2013/05/logoavvf2.gif
END:VEVENT
BEGIN:VEVENT
DTSTART;TZID=Europe/Helsinki:20220515T133000
DTEND;TZID=Europe/Helsinki:20220515T170000
DTSTAMP:20260421T071430
CREATED:20220409T162141Z
LAST-MODIFIED:20220409T162141Z
UID:2820-1652621400-1652634000@www.avvf.ch
SUMMARY:TC n°4 - Jeunesse
DESCRIPTION:
URL:https://www.avvf.ch/wp/event/tc-n4-jeunesse/
LOCATION:CTT Lausanne\, Chem. du Viaduc 14\, Prilly\, VD\, 1008\, Suisse
CATEGORIES:Tournois de classements
ATTACH;FMTTYPE=image/gif:https://www.avvf.ch/wp/wp-content/uploads/2013/05/logoavvf2.gif
END:VEVENT
BEGIN:VEVENT
DTSTART;VALUE=DATE:20220519
DTEND;VALUE=DATE:20220520
DTSTAMP:20260421T071430
CREATED:20220405T122156Z
LAST-MODIFIED:20220405T122156Z
UID:2803-1652918400-1653004799@www.avvf.ch
SUMMARY:Assemblée Fribourg
DESCRIPTION:
URL:https://www.avvf.ch/wp/event/assemblee-fribourg/
CATEGORIES:Assemblées
ATTACH;FMTTYPE=image/gif:https://www.avvf.ch/wp/wp-content/uploads/2013/05/logoavvf2.gif
END:VEVENT
BEGIN:VEVENT
DTSTART;VALUE=DATE:20220531
DTEND;VALUE=DATE:20220601
DTSTAMP:20260421T071430
CREATED:20220405T122125Z
LAST-MODIFIED:20220405T122125Z
UID:2801-1653955200-1654041599@www.avvf.ch
SUMMARY:Assemblée Vaud
DESCRIPTION:
URL:https://www.avvf.ch/wp/event/assemblee-vaud/
CATEGORIES:Assemblées
ATTACH;FMTTYPE=image/gif:https://www.avvf.ch/wp/wp-content/uploads/2013/05/logoavvf2.gif
END:VEVENT
END:VCALENDAR